BEGIN:VCALENDAR
VERSION:2.0
PRODID:-//The Contented Child - ECPv6.15.17//NONSGML v1.0//EN
CALSCALE:GREGORIAN
METHOD:PUBLISH
X-WR-CALNAME:The Contented Child
X-ORIGINAL-URL:https://thecontentedchild.co.uk
X-WR-CALDESC:Events for The Contented Child
REFRESH-INTERVAL;VALUE=DURATION:PT1H
X-Robots-Tag:noindex
X-PUBLISHED-TTL:PT1H
BEGIN:VTIMEZONE
TZID:Europe/London
BEGIN:DAYLIGHT
TZOFFSETFROM:+0000
TZOFFSETTO:+0100
TZNAME:BST
DTSTART:20180325T010000
END:DAYLIGHT
BEGIN:STANDARD
TZOFFSETFROM:+0100
TZOFFSETTO:+0000
TZNAME:GMT
DTSTART:20181028T010000
END:STANDARD
BEGIN:DAYLIGHT
TZOFFSETFROM:+0000
TZOFFSETTO:+0100
TZNAME:BST
DTSTART:20190331T010000
END:DAYLIGHT
BEGIN:STANDARD
TZOFFSETFROM:+0100
TZOFFSETTO:+0000
TZNAME:GMT
DTSTART:20191027T010000
END:STANDARD
BEGIN:DAYLIGHT
TZOFFSETFROM:+0000
TZOFFSETTO:+0100
TZNAME:BST
DTSTART:20200329T010000
END:DAYLIGHT
BEGIN:STANDARD
TZOFFSETFROM:+0100
TZOFFSETTO:+0000
TZNAME:GMT
DTSTART:20201025T010000
END:STANDARD
END:VTIMEZONE
BEGIN:VEVENT
DTSTART;TZID=Europe/London:20191108T094500
DTEND;TZID=Europe/London:20191108T124500
DTSTAMP:20260423T110107
CREATED:20180109T130512Z
LAST-MODIFIED:20190717T045444Z
UID:208758-1573206300-1573217100@thecontentedchild.co.uk
SUMMARY:The A-Z of Dyslexia
DESCRIPTION:This course is designed for professionals as well as parents and carers with children that have literacy difficulties and possible dyslexia. It will look at what is dyslexia\, what to look out for when working with your child and how to help them achieve success. \nThe course will also provide an over view of phonics and how this plays a large part of reading and writing success. This course is very hands on and so a camera phone will be useful to take away images of what you have seen and participated in.\nContent \nWhat is dyslexia? \nWorking through definitions and what to look for. \nMyth busting. Social and emotional costs of dyslexia. \nHow does it feel to have dyslexia? Examples of common issues through activities. \nHow does memory play a large part in dyslexia? Auditory and visual memory games and activities. \nWhat is phonics? Looking at how words and constructed and deconstructed for spelling. \nHow can I help at home? Reading and spelling hands on activities. \nWhat’s next? Looking forward to assessments\, specialist teaching sessions\, support from school. \nYOUR TRAINER IS NATALIE BARNETT\, SPECIALIST DYSLEXIA TEACHER AND ASSESSOR \nFEEDBACK \n‘Thank you so much to Natalie\, I learnt more in the last three hours about dyslexia and how to support my son than I ever thought I would. I just wish I had done the workshop sooner! \nI highly recommend the workshop\, it’s the best thing you can do if you suspect or know your child has dyslexia’ \n  \nRefreshments included\, free parking at venue with display of ‘With The Contented Child’ note.
URL:https://thecontentedchild.co.uk/event/the-a-z-of-dyslexia-2-2/
LOCATION:War Memorial\, Capel\, New Dover Road\, Capel le Ferne\, Folkestone\, Kent\, CT18 7JJ\, United Kingdom
CATEGORIES:Dysgraphia,Dyslexia,Multi-Sensory Learning
ATTACH;FMTTYPE=image/jpeg:https://thecontentedchild.co.uk/wp-content/uploads/2018/01/The-AZ-Dyslexia.jpg
END:VEVENT
END:VCALENDAR